BEGIN:VCALENDAR
VERSION:2.0
PRODID:-//Glisolles - ECPv5.9.0//NONSGML v1.0//EN
CALSCALE:GREGORIAN
METHOD:PUBLISH
X-WR-CALNAME:Glisolles
X-ORIGINAL-URL:https://www.glisolles.fr
X-WR-CALDESC:évènements pour Glisolles
BEGIN:VTIMEZONE
TZID:Europe/Paris
BEGIN:DAYLIGHT
TZOFFSETFROM:+0100
TZOFFSETTO:+0200
TZNAME:CEST
DTSTART:20210328T010000
END:DAYLIGHT
BEGIN:STANDARD
TZOFFSETFROM:+0200
TZOFFSETTO:+0100
TZNAME:CET
DTSTART:20211031T010000
END:STANDARD
END:VTIMEZONE
BEGIN:VEVENT
DTSTART;TZID=Europe/Paris:20210918T090000
DTEND;TZID=Europe/Paris:20210919T170000
DTSTAMP:20260421T122114
CREATED:20210911T125533Z
LAST-MODIFIED:20210911T130520Z
UID:851-1631955600-1632070800@www.glisolles.fr
SUMMARY:Journée du patrimoine 2021
DESCRIPTION:Les incontournables Journées du patrimoine vous donnent rendez-vous les 18 et 19 septembre 2021. \nDeux jours pour partir à la découverte ou redécouvrir des pans connus ou méconnus de notre histoire\, connaître les tenants et aboutissants d’une restauration\, aller à la rencontre des savoir-faire régionaux… Le thème de cette année : « Patrimoine pour tous ». \nRetrouvez les principales manifestations du département : \nhttps://www.normandie-tourisme.fr/evenement/les-journees-du-patrimoine/ \nRetrouvez les principales manifestations à Evreux  : \nhttps://evreux.fr/sortir/les-grands-rendez-vous/journees-patrimoine/
URL:https://www.glisolles.fr/event/journee-du-patrimoine-2021/
CATEGORIES:Culturel
END:VEVENT
END:VCALENDAR