BEGIN:VCALENDAR
VERSION:2.0
PRODID:-//Glisolles - ECPv5.9.0//NONSGML v1.0//EN
CALSCALE:GREGORIAN
METHOD:PUBLISH
X-WR-CALNAME:Glisolles
X-ORIGINAL-URL:https://www.glisolles.fr
X-WR-CALDESC:évènements pour Glisolles
BEGIN:VTIMEZONE
TZID:Europe/Paris
BEGIN:DAYLIGHT
TZOFFSETFROM:+0100
TZOFFSETTO:+0200
TZNAME:CEST
DTSTART:20210328T010000
END:DAYLIGHT
BEGIN:STANDARD
TZOFFSETFROM:+0200
TZOFFSETTO:+0100
TZNAME:CET
DTSTART:20211031T010000
END:STANDARD
END:VTIMEZONE
BEGIN:VEVENT
DTSTART;VALUE=DATE:20211031
DTEND;VALUE=DATE:20211101
DTSTAMP:20260421T140219
CREATED:20211018T191122Z
LAST-MODIFIED:20211018T191122Z
UID:1002-1635638400-1635724799@www.glisolles.fr
SUMMARY:Fête de la pomme du cidre et du fromage
DESCRIPTION:Fête de la pomme du cidre et du fromage à l’Arboretum de Conches \n  \nCette année\, le cheval est à l’honneur ! \nToutes les infos ici
URL:https://www.glisolles.fr/event/fete-de-la-pomme-du-cidre-et-du-fromage/
LOCATION:Arboretum de Conches\, Conches\, France
ATTACH;FMTTYPE=image/jpeg:https://www.glisolles.fr/wp-content/uploads/2021/10/fete-de-la-pomme.jpg
END:VEVENT
END:VCALENDAR