BEGIN:VCALENDAR
VERSION:2.0
PRODID:-//Glisolles - ECPv5.9.0//NONSGML v1.0//EN
CALSCALE:GREGORIAN
METHOD:PUBLISH
X-WR-CALNAME:Glisolles
X-ORIGINAL-URL:https://www.glisolles.fr
X-WR-CALDESC:évènements pour Glisolles
BEGIN:VTIMEZONE
TZID:Europe/Paris
BEGIN:DAYLIGHT
TZOFFSETFROM:+0100
TZOFFSETTO:+0200
TZNAME:CEST
DTSTART:20210328T010000
END:DAYLIGHT
BEGIN:STANDARD
TZOFFSETFROM:+0200
TZOFFSETTO:+0100
TZNAME:CET
DTSTART:20211031T010000
END:STANDARD
END:VTIMEZONE
BEGIN:VEVENT
DTSTART;TZID=Europe/Paris:20211120T203000
DTEND;TZID=Europe/Paris:20211120T223000
DTSTAMP:20260421T103656
CREATED:20211010T152506Z
LAST-MODIFIED:20211018T185546Z
UID:986-1637440200-1637447400@www.glisolles.fr
SUMMARY:Concert les Quat'Charles à l'église de Glisolles
DESCRIPTION:Les Quat’Charles chantent et jouent Trenet et Gainsbourg \n  \nLes Quat’Charles ont su redonner vie depuis quelques années aux chansons de Charles Trenet et de Serge Gainsbourg. Ces quatre musiciens venus d’horizons musicaux divers (classique\, jazz\, chansons) revisitent à leur façon les titres du fou chantant qui ont plané sur les ondes durant les années 30\, 40 et 50. Ils jouent dans l’esprit jazz acoustique de l’époque où Django Reinhardt accompagnait Trenet. Vincent Brochu (contrebasse\, chant)\, Philippe Lechopier (guitare\, chant)\, Georges Rojel (guitare\, caisse claire\, chant) et Éric Simon (piano\, caisse claire\, chant) ont fait alliance de leurs talents. Ils ont un goût pour les alliages sonores réunissant la chanson et le jazz. \nPrix : 7 € – 5€ (pour les -de 12 ans)
URL:https://www.glisolles.fr/event/concert-les-quatcharles-a-leglise-de-glisolles/
LOCATION:Eglise de glisolles\, rue du duc de clermont tonnerre\, glisolles\, 27190\, France
CATEGORIES:Culturel,Festive
ATTACH;FMTTYPE=image/jpeg:https://www.glisolles.fr/wp-content/uploads/2021/10/Les-QuatCharles-2.jpg
ORGANIZER;CN="Municipalit%C3%A9":MAILTO:mairie@glisolles.fr
END:VEVENT
END:VCALENDAR